BEGIN:VCALENDAR
VERSION:2.0
PRODID:-//wp-events-plugin.com//7.2.3.1//EN
TZID:Europe/Zurich
X-WR-TIMEZONE:Europe/Zurich
BEGIN:VEVENT
UID:12@kv-berna.ch
DTSTART;TZID=Europe/Zurich;VALUE=DATE:20260606
DTEND;TZID=Europe/Zurich;VALUE=DATE:20260608
DTSTAMP:20260413T082755Z
URL:https://kv-berna.ch/events/agility-turnier/
SUMMARY:Agility-Turnier
DESCRIPTION:Unter "weitere Informationen" findest Du den Link zur AOA-Anmel
 dungsseite\n\n&nbsp\;
ATTACH;FMTTYPE=image/jpeg:https://kv-berna.ch/wp-content/uploads/2026/03/A
 gi-Franca-1.jpeg
CATEGORIES:Turnier
LOCATION:KV Berna\, Mösli 1\, Lurtigen\, 3215\, Schweiz
X-APPLE-STRUCTURED-LOCATION;VALUE=URI;X-ADDRESS=Mösli 1\, Lurtigen\, 3215\
 , Schweiz;X-APPLE-RADIUS=100;X-TITLE=KV Berna:geo:0,0
END:VEVENT
BEGIN:VTIMEZONE
TZID:Europe/Zurich
X-LIC-LOCATION:Europe/Zurich
BEGIN:DAYLIGHT
DTSTART:20260329T030000
TZOFFSETFROM:+0100
TZOFFSETTO:+0200
TZNAME:CEST
END:DAYLIGHT
END:VTIMEZONE
END:VCALENDAR