BEGIN:VCALENDAR
VERSION:2.0
PRODID:-//wp-events-plugin.com//7.2.3.1//EN
TZID:Europe/Zurich
X-WR-TIMEZONE:Europe/Zurich
BEGIN:VEVENT
UID:20@kv-berna.ch
DTSTART;TZID=Europe/Zurich;VALUE=DATE:20261010
DTEND;TZID=Europe/Zurich;VALUE=DATE:20261011
DTSTAMP:20260413T083529Z
URL:https://kv-berna.ch/events/arbeitstag-2/
SUMMARY:Arbeitstag
DESCRIPTION:Verantwortlich Ueli Rohrbach\n\nInformationen und Zeiten folgen
 .
ATTACH;FMTTYPE=image/jpeg:https://kv-berna.ch/wp-content/uploads/2026/02/p
 latz-mit-huette-e1770820884185.jpg
CATEGORIES:Arbeitstag
LOCATION:Trainingsplatz\, Mösli\, Altavilla\, Lurtigen\, Murten\, 3215\, S
 chweiz
X-APPLE-STRUCTURED-LOCATION;VALUE=URI;X-ADDRESS=Mösli\, Altavilla\, Lurtig
 en\, Murten\, 3215\, Schweiz;X-APPLE-RADIUS=100;X-TITLE=Trainingsplatz:geo
 :0,0
END:VEVENT
BEGIN:VTIMEZONE
TZID:Europe/Zurich
X-LIC-LOCATION:Europe/Zurich
BEGIN:DAYLIGHT
DTSTART:20260329T030000
TZOFFSETFROM:+0100
TZOFFSETTO:+0200
TZNAME:CEST
END:DAYLIGHT
END:VTIMEZONE
END:VCALENDAR