BEGIN:VCALENDAR
VERSION:2.0
PRODID:-//wp-events-plugin.com//7.2.3.1//EN
TZID:Europe/Zurich
X-WR-TIMEZONE:Europe/Zurich
BEGIN:VEVENT
UID:24@kv-berna.ch
DTSTART;TZID=Europe/Zurich;VALUE=DATE:20270220
DTEND;TZID=Europe/Zurich;VALUE=DATE:20270221
DTSTAMP:20260305T125607Z
URL:https://kv-berna.ch/events/generalversammlung-2027/
SUMMARY:Generalversammlung 2027
DESCRIPTION:Informationen und Zeiten folgen
CATEGORIES:Generalversammlung
END:VEVENT
BEGIN:VTIMEZONE
TZID:Europe/Zurich
X-LIC-LOCATION:Europe/Zurich
BEGIN:STANDARD
DTSTART:20261025T020000
TZOFFSETFROM:+0200
TZOFFSETTO:+0100
TZNAME:CET
END:STANDARD
END:VTIMEZONE
END:VCALENDAR