BEGIN:VCALENDAR
VERSION:2.0
PRODID:-//wp-events-plugin.com//7.2.3.1//EN
TZID:Europe/Zurich
X-WR-TIMEZONE:Europe/Zurich
BEGIN:VEVENT
UID:1@kv-berna.ch
DTSTART;TZID=Europe/Zurich:20260408T110000
DTEND;TZID=Europe/Zurich:20260617T120000
DTSTAMP:20260413T083756Z
URL:https://kv-berna.ch/events/hoopagi-aufbaukurs-fruehling-2026/
SUMMARY:HoopAgi Aufbaukurs Frühling 2026
DESCRIPTION:Aufbaukurs KV Berna 2026\n&nbsp\;\nDer Kurs läuft bereits\n&nb
 sp\;
ATTACH;FMTTYPE=image/jpeg:https://kv-berna.ch/wp-content/uploads/2026/02/h
 oop.jpg
CATEGORIES:HoopAgi
LOCATION:KV Berna\, Mösli 1\, Lurtigen\, 3215\, Schweiz
X-APPLE-STRUCTURED-LOCATION;VALUE=URI;X-ADDRESS=Mösli 1\, Lurtigen\, 3215\
 , Schweiz;X-APPLE-RADIUS=100;X-TITLE=KV Berna:geo:0,0
END:VEVENT
BEGIN:VTIMEZONE
TZID:Europe/Zurich
X-LIC-LOCATION:Europe/Zurich
BEGIN:DAYLIGHT
DTSTART:20260329T030000
TZOFFSETFROM:+0100
TZOFFSETTO:+0200
TZNAME:CEST
END:DAYLIGHT
END:VTIMEZONE
END:VCALENDAR