BEGIN:VCALENDAR
VERSION:2.0
PRODID:-//wp-events-plugin.com//7.2.3.1//EN
TZID:Europe/Zurich
X-WR-TIMEZONE:Europe/Zurich
BEGIN:VEVENT
UID:23@kv-berna.ch
DTSTART;TZID=Europe/Zurich;VALUE=DATE:20261206
DTEND;TZID=Europe/Zurich;VALUE=DATE:20261207
DTSTAMP:20260305T125141Z
URL:https://kv-berna.ch/events/sami-chlouse-tag-fuer-vereinsmitglieder/
SUMMARY:Sami-Chlouse Tag für Vereinsmitglieder
DESCRIPTION:Verantwortlich Chantal Wieland -\n\nInformationen und Zeiten fo
 lgen.
CATEGORIES:Plausch
LOCATION:KV Berna\, Mösli 1\, Lurtigen\, 3215\, Schweiz
X-APPLE-STRUCTURED-LOCATION;VALUE=URI;X-ADDRESS=Mösli 1\, Lurtigen\, 3215\
 , Schweiz;X-APPLE-RADIUS=100;X-TITLE=KV Berna:geo:0,0
END:VEVENT
BEGIN:VTIMEZONE
TZID:Europe/Zurich
X-LIC-LOCATION:Europe/Zurich
BEGIN:STANDARD
DTSTART:20261025T020000
TZOFFSETFROM:+0200
TZOFFSETTO:+0100
TZNAME:CET
END:STANDARD
END:VTIMEZONE
END:VCALENDAR