BEGIN:VCALENDAR
VERSION:2.0
PRODID:-//wp-events-plugin.com//7.2.3.1//EN
TZID:Europe/Zurich
X-WR-TIMEZONE:Europe/Zurich
BEGIN:VEVENT
UID:28@kv-berna.ch
DTSTART;TZID=Europe/Zurich;VALUE=DATE:20260509
DTEND;TZID=Europe/Zurich;VALUE=DATE:20260510
DTSTAMP:20260414T125531Z
URL:https://kv-berna.ch/events/tag-des-hundes/
SUMMARY:Tag des Hundes
DESCRIPTION:Um was es geht:\n&nbsp\;\n\nHier geht´s zu unserer&nbsp\; Bots
 chaft\n\n&nbsp\;\n\nVersammlungsort: 14 h bei der Clubhütte\n\n&nbsp\;\n\
 nMitbringen: Gute Laune und etwas zum Grillieren\n\n&nbsp\;\n\nAuf unserem
  Spaziergang sind Hunde willkommen!
ATTACH;FMTTYPE=image/jpeg:https://kv-berna.ch/wp-content/uploads/2026/04/K
 ynologischer-Verein-Berna_Story_DE-e1776171316540.jpg
CATEGORIES:Tag des Hundes
LOCATION:KV Berna\, Mösli 1\, Lurtigen\, 3215\, Schweiz
X-APPLE-STRUCTURED-LOCATION;VALUE=URI;X-ADDRESS=Mösli 1\, Lurtigen\, 3215\
 , Schweiz;X-APPLE-RADIUS=100;X-TITLE=KV Berna:geo:0,0
END:VEVENT
BEGIN:VTIMEZONE
TZID:Europe/Zurich
X-LIC-LOCATION:Europe/Zurich
BEGIN:DAYLIGHT
DTSTART:20260329T030000
TZOFFSETFROM:+0100
TZOFFSETTO:+0200
TZNAME:CEST
END:DAYLIGHT
END:VTIMEZONE
END:VCALENDAR