BEGIN:VCALENDAR
VERSION:2.0
PRODID:-//wp-events-plugin.com//7.2.3.1//EN
TZID:Europe/Zurich
X-WR-TIMEZONE:Europe/Zurich
BEGIN:VEVENT
UID:21@kv-berna.ch
DTSTART;TZID=Europe/Zurich;VALUE=DATE:20261025
DTEND;TZID=Europe/Zurich;VALUE=DATE:20261026
DTSTAMP:20260413T083624Z
URL:https://kv-berna.ch/events/treibball-workshop-2/
SUMMARY:Treibball-Workshop
DESCRIPTION:Verantwortlich Tanja Weber und Team\n\nInformationen und Zeiten
  folgen.
ATTACH;FMTTYPE=image/jpeg:https://kv-berna.ch/wp-content/uploads/2026/03/D
 SC05322-scaled.jpg
CATEGORIES:Treibbal
LOCATION:Trainingsplatz\, Mösli\, Altavilla\, Lurtigen\, Murten\, 3215\, S
 chweiz
X-APPLE-STRUCTURED-LOCATION;VALUE=URI;X-ADDRESS=Mösli\, Altavilla\, Lurtig
 en\, Murten\, 3215\, Schweiz;X-APPLE-RADIUS=100;X-TITLE=Trainingsplatz:geo
 :0,0
END:VEVENT
BEGIN:VTIMEZONE
TZID:Europe/Zurich
X-LIC-LOCATION:Europe/Zurich
BEGIN:DAYLIGHT
DTSTART:20260329T030000
TZOFFSETFROM:+0100
TZOFFSETTO:+0200
TZNAME:CEST
END:DAYLIGHT
BEGIN:STANDARD
DTSTART:20261025T020000
TZOFFSETFROM:+0200
TZOFFSETTO:+0100
TZNAME:CET
END:STANDARD
END:VTIMEZONE
END:VCALENDAR