BEGIN:VCALENDAR
VERSION:2.0
PRODID:-//wp-events-plugin.com//7.2.3.1//EN
TZID:Europe/Zurich
X-WR-TIMEZONE:Europe/Zurich
BEGIN:VEVENT
UID:14@kv-berna.ch
DTSTART;TZID=Europe/Zurich;VALUE=DATE:20260510
DTEND;TZID=Europe/Zurich;VALUE=DATE:20260511
DTSTAMP:20260422T083828Z
URL:https://kv-berna.ch/events/treibball-workshop/
SUMMARY:Treibball-Workshop
DESCRIPTION:Verantwortlich O. Fritschi / B. Krattinger -\n\nInformationen u
 nd Zeiten folgen.
ATTACH;FMTTYPE=image/jpeg:https://kv-berna.ch/wp-content/uploads/2026/03/S
 AA00914-Bearbeitet-scaled.jpg
CATEGORIES:Treibbal
LOCATION:KV Berna\, Mösli 1\, Lurtigen\, 3215\, Schweiz
X-APPLE-STRUCTURED-LOCATION;VALUE=URI;X-ADDRESS=Mösli 1\, Lurtigen\, 3215\
 , Schweiz;X-APPLE-RADIUS=100;X-TITLE=KV Berna:geo:0,0
END:VEVENT
BEGIN:VTIMEZONE
TZID:Europe/Zurich
X-LIC-LOCATION:Europe/Zurich
BEGIN:DAYLIGHT
DTSTART:20260329T030000
TZOFFSETFROM:+0100
TZOFFSETTO:+0200
TZNAME:CEST
END:DAYLIGHT
END:VTIMEZONE
END:VCALENDAR